BEGIN:VCALENDAR
VERSION:2.0
PRODID:ra_calender TYPO3 Extension
METHOD:PUBLISH
BEGIN:VEVENT
UID:684288b16fe9ab11cb634706264e7ed8
LOCATION:LEIPZIG
SUMMARY:MODELL-HOBBY-SPIEL
DESCRIPTION:
CLASS:PUBLIC
DTSTART:20170929T120000
DTEND:20171001T120000
DTSTAMP:20171101T034430
END:VEVENT
END:VCALENDAR